BEGIN:VCALENDAR
VERSION:2.0
PRODID:-//Digital Innovation Hub Industry 4.0 - ECPv6.15.20//NONSGML v1.0//EN
CALSCALE:GREGORIAN
METHOD:PUBLISH
X-WR-CALNAME:Digital Innovation Hub Industry 4.0
X-ORIGINAL-URL:https://www.dihbu40.es
X-WR-CALDESC:Eventos para Digital Innovation Hub Industry 4.0
REFRESH-INTERVAL;VALUE=DURATION:PT1H
X-Robots-Tag:noindex
X-PUBLISHED-TTL:PT1H
BEGIN:VTIMEZONE
TZID:Europe/Madrid
BEGIN:DAYLIGHT
TZOFFSETFROM:+0100
TZOFFSETTO:+0200
TZNAME:CEST
DTSTART:20250330T010000
END:DAYLIGHT
BEGIN:STANDARD
TZOFFSETFROM:+0200
TZOFFSETTO:+0100
TZNAME:CET
DTSTART:20251026T010000
END:STANDARD
BEGIN:DAYLIGHT
TZOFFSETFROM:+0100
TZOFFSETTO:+0200
TZNAME:CEST
DTSTART:20260329T010000
END:DAYLIGHT
BEGIN:STANDARD
TZOFFSETFROM:+0200
TZOFFSETTO:+0100
TZNAME:CET
DTSTART:20261025T010000
END:STANDARD
BEGIN:DAYLIGHT
TZOFFSETFROM:+0100
TZOFFSETTO:+0200
TZNAME:CEST
DTSTART:20270328T010000
END:DAYLIGHT
BEGIN:STANDARD
TZOFFSETFROM:+0200
TZOFFSETTO:+0100
TZNAME:CET
DTSTART:20271031T010000
END:STANDARD
END:VTIMEZONE
BEGIN:VEVENT
DTSTART;TZID=Europe/Madrid:20260506T120000
DTEND;TZID=Europe/Madrid:20260506T130000
DTSTAMP:20260422T140703
CREATED:20260416T113013Z
LAST-MODIFIED:20260416T113013Z
UID:55770-1778068800-1778072400@www.dihbu40.es
SUMMARY:Workshop 5G PTE Disruptuve: Conoce Slices\, Nextonic y 6G-XR
DESCRIPTION:El Grupo de Trabajo de 5G\, tiene como misión impulsar el conocimiento\, la transferencia y la aplicación práctica de la tecnología 5G entre los socios de la plataforma.\nEl grupo desarrollará tres líneas de actividad principales:\nLa primera es la contribución a estudios estratégicos sobre tendencias tecnológicas\, oportunidades de innovación\, demanda temprana y nivel de digitalización\, con foco específico en el ecosistema 5G. La segunda es la elaboración de un informe de situación del 5G en España\, que ofrecerá una visión actualizada y rigurosa del estado de despliegue y adopción de esta tecnología en nuestro país. La tercera es la dinamización activa del sector a través de webinars informativos\, workshops prácticos y encuentros empresariales que faciliten la conexión entre actores clave.\n\nEn esta sesión presentaremos diferentes iniciativas y casos de uso relacionados con 6G\, XR y redes avanzadas\, con un enfoque práctico basado en infraestructuras experimentales y demostraciones reales. Conoceremos SLICES y las posibilidades que ofrece para realizar experimentos\, así como el proyecto NEXTONIC\, donde se mostrarán algunas demos desarrolladas en laboratorio y finalmente se presentará una demo vinculada a 6G-XR.\n  \nPROGRAMA DEL WORKSHOP \n\n12:00 – 12:05 h | Bienvenida A cargo de Antonio de la Oliva Delgado (Universidad Carlos III de Madrid)\, coordinador del GdT de 5G\, y Elena García (APTE)\, coordinadora de proyectos y redes. \n12:05 – 12:20 h | Presentación de SLICES: experimentos disponibles y acceso a la infraestructura Daniel Lorenzo\, Ingeniero de Investigación en IMDEA Networks Institute. Una oportunidad para conocer de primera mano las capacidades experimentales disponibles y cómo acceder a esta infraestructura de investigación de referencia europea. \n12:20 – 12:35 h | NEXTONIC: demos y capacidades del laboratorio Carlos J. Bernardos\, Catedrático de la Universidad Carlos III de Madrid. Demostración de las capacidades del laboratorio NEXTONIC y sus posibilidades para la experimentación e innovación en redes 5G. \n12:35 – 12:50 h | Demo de 6G-XR Manuel Lorenzo\, Director de Tecnología e Innovación en Ericsson España. Una mirada al futuro: demostración de tecnología 6G aplicada a experiencias de realidad extendida (XR)\, de la mano de uno de los líderes globales del sector. \n12:50 – 13:00 h | Ronda de preguntas Espacio abierto para resolver dudas e intercambiar ideas con los ponentes. \n13:00 h | Cierre \n  \nAcceso exclusivo para miembros del grupo de trabajo \n  \nMás información
URL:https://www.dihbu40.es/evento/workshop-5g-pte-disruptuve-conoce-slices-nextonic-y-6g-xr/
LOCATION:online
CATEGORIES:external
ATTACH;FMTTYPE=image/png:https://www.dihbu40.es/wp-content/uploads/2026/04/Captura-de-pantalla-2026-04-16-132906.png
END:VEVENT
END:VCALENDAR