BEGIN:VCALENDAR
VERSION:2.0
PRODID:-//Digital Innovation Hub Industry 4.0 - ECPv6.15.20//NONSGML v1.0//EN
CALSCALE:GREGORIAN
METHOD:PUBLISH
X-ORIGINAL-URL:https://www.dihbu40.es
X-WR-CALDESC:Eventos para Digital Innovation Hub Industry 4.0
REFRESH-INTERVAL;VALUE=DURATION:PT1H
X-Robots-Tag:noindex
X-PUBLISHED-TTL:PT1H
BEGIN:VTIMEZONE
TZID:Europe/Madrid
BEGIN:DAYLIGHT
TZOFFSETFROM:+0100
TZOFFSETTO:+0200
TZNAME:CEST
DTSTART:20250330T010000
END:DAYLIGHT
BEGIN:STANDARD
TZOFFSETFROM:+0200
TZOFFSETTO:+0100
TZNAME:CET
DTSTART:20251026T010000
END:STANDARD
BEGIN:DAYLIGHT
TZOFFSETFROM:+0100
TZOFFSETTO:+0200
TZNAME:CEST
DTSTART:20260329T010000
END:DAYLIGHT
BEGIN:STANDARD
TZOFFSETFROM:+0200
TZOFFSETTO:+0100
TZNAME:CET
DTSTART:20261025T010000
END:STANDARD
BEGIN:DAYLIGHT
TZOFFSETFROM:+0100
TZOFFSETTO:+0200
TZNAME:CEST
DTSTART:20270328T010000
END:DAYLIGHT
BEGIN:STANDARD
TZOFFSETFROM:+0200
TZOFFSETTO:+0100
TZNAME:CET
DTSTART:20271031T010000
END:STANDARD
END:VTIMEZONE
BEGIN:VEVENT
DTSTART;TZID=Europe/Madrid:20260219T093000
DTEND;TZID=Europe/Madrid:20260219T110000
DTSTAMP:20260422T222312
CREATED:20260205T113103Z
LAST-MODIFIED:20260223T074902Z
UID:54968-1771493400-1771498800@www.dihbu40.es
SUMMARY:Sesión gratuita de demostración tecnológica de exoesqueletos industriales | FELE
DESCRIPTION:El proyecto PoleaLab impartirá una sesión gratuita de demostración tecnológica de exoesqueletos industriales en colaboración con la Federación Leonesa de Empresarios (FELE) a aquellas empresas de la zona interesadas en implantar este tipo de tecnología.\n  \nDirigido a\nResponsables de prevención de riesgos laborales (PRL)\, jefes de fábrica\, responsables de producción / mantenimiento\, y gerentes de empresas industriales\, así como a técnicos de empresas de servicios vinculados a la industria\, y trabajadores de cualquier empresa interesada. \nObjetivo\nDar a conocer esta tecnología y facilitar a las empresas una prueba real de las distintas soluciones de exoesqueletos. Se facilitará que las empresas puedan pedir una prueba gratuita de los exoesqueletos del proyecto en su propia fábrica / centro de trabajo si lo desean \n  \nAgenda de la sesión\n\nProyecto Polea Lab: infraestructuras y servicios disponibles para pymes\nExoesqueletos: tipos y ventajas. Modelos disponibles en el proyecto para su testeo\ngratuito\nDemostración y prueba de los exoesqueletos por parte de los asistentes\nReuniones abiertas con aquellos asistentes que deseen más información\n\n 
URL:https://www.dihbu40.es/evento/sesion-gratuita-de-demostracion-tecnologica-de-exoesqueletos-industriales-fele/
LOCATION:FELE – Federación Leonesa de Empresarios\, Av. Independencia\, 4\, 5°planta\, 24001 León\, León\, León\, 24001\, Spain
CATEGORIES:dihbu,external
ORGANIZER;CN="Digital Innovation Hub Industry 4.0":MAILTO:info@dihbu40.com
END:VEVENT
END:VCALENDAR