BEGIN:VCALENDAR
VERSION:2.0
PRODID:-//Digital Innovation Hub Industry 4.0 - ECPv6.15.20//NONSGML v1.0//EN
CALSCALE:GREGORIAN
METHOD:PUBLISH
X-ORIGINAL-URL:https://www.dihbu40.es
X-WR-CALDESC:Eventos para Digital Innovation Hub Industry 4.0
REFRESH-INTERVAL;VALUE=DURATION:PT1H
X-Robots-Tag:noindex
X-PUBLISHED-TTL:PT1H
BEGIN:VTIMEZONE
TZID:Europe/Madrid
BEGIN:DAYLIGHT
TZOFFSETFROM:+0100
TZOFFSETTO:+0200
TZNAME:CEST
DTSTART:20250330T010000
END:DAYLIGHT
BEGIN:STANDARD
TZOFFSETFROM:+0200
TZOFFSETTO:+0100
TZNAME:CET
DTSTART:20251026T010000
END:STANDARD
BEGIN:DAYLIGHT
TZOFFSETFROM:+0100
TZOFFSETTO:+0200
TZNAME:CEST
DTSTART:20260329T010000
END:DAYLIGHT
BEGIN:STANDARD
TZOFFSETFROM:+0200
TZOFFSETTO:+0100
TZNAME:CET
DTSTART:20261025T010000
END:STANDARD
BEGIN:DAYLIGHT
TZOFFSETFROM:+0100
TZOFFSETTO:+0200
TZNAME:CEST
DTSTART:20270328T010000
END:DAYLIGHT
BEGIN:STANDARD
TZOFFSETFROM:+0200
TZOFFSETTO:+0100
TZNAME:CET
DTSTART:20271031T010000
END:STANDARD
END:VTIMEZONE
BEGIN:VEVENT
DTSTART;TZID=Europe/Madrid:20260317T190000
DTEND;TZID=Europe/Madrid:20260317T201500
DTSTAMP:20260422T222308
CREATED:20260310T124054Z
LAST-MODIFIED:20260310T130831Z
UID:55270-1773774000-1773778500@www.dihbu40.es
SUMMARY:22 Jornada - Comunidad Mantenimiento Burgos
DESCRIPTION:La Escuela Politécnica Superior acoge una nueva jornada técnica centrada en mantenimiento industrial\, ciberseguridad y lubricación en maquinaria\, tres ámbitos clave para la eficiencia y seguridad de las instalaciones industriales.\n  \nEl encuentro reunirá a profesionales del sector que compartirán experiencias reales de empresa\, novedades normativas y criterios técnicos aplicados en la industria\, ofreciendo una visión práctica y actual sobre los retos del mantenimiento en entornos productivos.\n  \nLa sesión está dirigida a profesionales del mantenimiento\, personal técnico\, ingenieros y estudiantes interesados en la gestión y mejora de activos industriales.\n  \nPrograma de la jornada\nDavid de FrutosResponsable de Mantenimiento en Constantia Flexibles\nDurante su intervención explicará la evolución de la compañía y el modelo de gestión del mantenimiento en la planta de Burgos. También presentará algunos de los proyectos de mantenimiento desarrollados en la empresa y cómo se abordan los retos operativos en un entorno industrial real. \n\nRafael Lóbez LacambraSales Engineer y experto en ciberseguridad\nLa ponencia abordará la ciberseguridad industrial en el contexto de las nuevas exigencias regulatorias europeas\, como la directiva NIS2\, el Cyber Resilience Act y el nuevo reglamento de máquinas. Además\, se analizará su impacto en las redes OT (tecnología operativa) y se presentarán soluciones orientadas a la protección de entornos industriales según la norma IEC 62443. \n\nJordi DuqueProduct Manager – Lubricación para maquinaria industrial\nLa charla estará dedicada a los criterios de selección de grasas lubricantes en maquinaria industrial. Se revisarán las diferencias entre grasas y aceites lubricantes\, así como los principales parámetros que influyen en la elección del lubricante adecuado según las condiciones de funcionamiento de los equipos. \nAnimamos a las empresas\, profesionales y estudiantes interesados en el mantenimiento industrial a participar en esta jornada\, que permitirá conocer buenas prácticas del sector\, nuevas tendencias tecnológicas y experiencias aplicadas en el ámbito empresarial.
URL:https://www.dihbu40.es/evento/22-jornada-comunidad-mantenimiento-burgos/
LOCATION:Escuela Politécnica Superior – Universidad de Burgos\, Campus Rio Vena\, Av. Cantabria\, s/n\, Burgos\, Burgos\, 09001\, España
CATEGORIES:external
ATTACH;FMTTYPE=image/png:https://www.dihbu40.es/wp-content/uploads/2026/03/Captura-de-pantalla-2026-03-10-133743.png
END:VEVENT
END:VCALENDAR